BEGIN:VCALENDAR
VERSION:2.0
PRODID:-//Paddy Whelan`s - ECPv4.0.5//NONSGML v1.0//EN
CALSCALE:GREGORIAN
METHOD:PUBLISH
X-WR-CALNAME:Paddy Whelan`s
X-ORIGINAL-URL:https://www.paddywhelans.com
X-WR-CALDESC:Events for Paddy Whelan`s
BEGIN:VEVENT
DTSTART;TZID="UTC+3":20220924T133000
DTEND;TZID="UTC+3":20220924T150000
DTSTAMP:20260426T003355
CREATED:20220916T165048
LAST-MODIFIED:20220916T165048
UID:17914-1664026200-1664031600@www.paddywhelans.com
SUMMARY:Sassuolo – Juventus(Women)
DESCRIPTION:
URL:https://www.paddywhelans.com/event/sassuolo-juventuswomen/
CATEGORIES:Continental Europe Football
END:VEVENT
END:VCALENDAR