BEGIN:VCALENDAR
VERSION:2.0
PRODID:-//Paddy Whelan`s - ECPv4.0.5//NONSGML v1.0//EN
CALSCALE:GREGORIAN
METHOD:PUBLISH
X-WR-CALNAME:Paddy Whelan`s
X-ORIGINAL-URL:https://www.paddywhelans.com
X-WR-CALDESC:Events for Paddy Whelan`s
BEGIN:VEVENT
DTSTART;TZID="UTC+3":20190209T183500
DTEND;TZID="UTC+3":20190209T183500
DTSTAMP:20260420T134510
CREATED:20190202T164220
LAST-MODIFIED:20190202T164220
UID:6079-1549737300-1549737300@www.paddywhelans.com
SUMMARY:Rugby – Six Nations: Italy VS Wales
DESCRIPTION:
URL:https://www.paddywhelans.com/event/rugby-six-nations-italy-vs-wales/
CATEGORIES:Rugby Union
END:VEVENT
END:VCALENDAR