BEGIN:VCALENDAR
VERSION:2.0
PRODID:-//Paddy Whelan`s - ECPv4.0.5//NONSGML v1.0//EN
CALSCALE:GREGORIAN
METHOD:PUBLISH
X-WR-CALNAME:Paddy Whelan`s
X-ORIGINAL-URL:https://www.paddywhelans.com
X-WR-CALDESC:Events for Paddy Whelan`s
BEGIN:VEVENT
DTSTART;TZID="UTC+3":20190210T165000
DTEND;TZID="UTC+3":20190210T165000
DTSTAMP:20260423T102624
CREATED:20190206T213857
LAST-MODIFIED:20190206T213857
UID:6085-1549817400-1549817400@www.paddywhelans.com
SUMMARY:Rugby – Six Nations: England VS France
DESCRIPTION:
URL:https://www.paddywhelans.com/event/rugby-six-nations-england-vs-france/
CATEGORIES:Rugby Union
END:VEVENT
END:VCALENDAR