BEGIN:VCALENDAR
VERSION:2.0
PRODID:-//Paddy Whelan`s - ECPv4.0.5//NONSGML v1.0//EN
CALSCALE:GREGORIAN
METHOD:PUBLISH
X-WR-CALNAME:Paddy Whelan`s
X-ORIGINAL-URL:https://www.paddywhelans.com
X-WR-CALDESC:Events for Paddy Whelan`s
BEGIN:VEVENT
DTSTART;TZID="UTC+3":20220830T214500
DTEND;TZID="UTC+3":20220830T230000
DTSTAMP:20260425T114337
CREATED:20220827T152244
LAST-MODIFIED:20220827T152244
UID:17497-1661895900-1661900400@www.paddywhelans.com
SUMMARY:Roma – Monza
DESCRIPTION:
URL:https://www.paddywhelans.com/event/roma-monza/
CATEGORIES:Continental Europe Football
END:VEVENT
END:VCALENDAR