BEGIN:VCALENDAR
VERSION:2.0
PRODID:-//Paddy Whelan`s - ECPv4.0.5//NONSGML v1.0//EN
CALSCALE:GREGORIAN
METHOD:PUBLISH
X-WR-CALNAME:Paddy Whelan`s
X-ORIGINAL-URL:https://www.paddywhelans.com
X-WR-CALDESC:Events for Paddy Whelan`s
BEGIN:VEVENT
DTSTART;TZID="UTC+3":20220828T150000
DTEND;TZID="UTC+3":20220828T170000
DTSTAMP:20260425T154244
CREATED:20220820T152001
LAST-MODIFIED:20220820T152001
UID:17484-1661698800-1661706000@www.paddywhelans.com
SUMMARY:Riga – Tukums 2000
DESCRIPTION:
URL:https://www.paddywhelans.com/event/riga-tukums-2000/
CATEGORIES:Continental Europe Football
END:VEVENT
END:VCALENDAR