BEGIN:VCALENDAR
VERSION:2.0
PRODID:-//Paddy Whelan`s - ECPv4.0.5//NONSGML v1.0//EN
CALSCALE:GREGORIAN
METHOD:PUBLISH
X-WR-CALNAME:Paddy Whelan`s
X-ORIGINAL-URL:https://www.paddywhelans.com
X-WR-CALDESC:Events for Paddy Whelan`s
BEGIN:VEVENT
DTSTART;TZID="UTC+3":20220916T180000
DTEND;TZID="UTC+3":20220916T200000
DTSTAMP:20260423T232444
CREATED:20220911T191824
LAST-MODIFIED:20220911T191824
UID:17825-1663351200-1663358400@www.paddywhelans.com
SUMMARY:Riga – Liepāja
DESCRIPTION:
URL:https://www.paddywhelans.com/event/riga-liepaja/
CATEGORIES:Continental Europe Football
END:VEVENT
END:VCALENDAR