BEGIN:VCALENDAR
VERSION:2.0
PRODID:-//Paddy Whelan`s - ECPv4.0.5//NONSGML v1.0//EN
CALSCALE:GREGORIAN
METHOD:PUBLISH
X-WR-CALNAME:Paddy Whelan`s
X-ORIGINAL-URL:https://www.paddywhelans.com
X-WR-CALDESC:Events for Paddy Whelan`s
BEGIN:VEVENT
DTSTART;TZID="UTC+3":20220903T080000
DTEND;TZID="UTC+3":20220903T170000
DTSTAMP:20260425T135314
CREATED:20220828T145120
LAST-MODIFIED:20220828T145120
UID:17559-1662192000-1662224400@www.paddywhelans.com
SUMMARY:Real Madid – Betis
DESCRIPTION:
URL:https://www.paddywhelans.com/event/real-madid-betis/
CATEGORIES:La Liga
END:VEVENT
END:VCALENDAR