BEGIN:VCALENDAR
VERSION:2.0
PRODID:-//Paddy Whelan`s - ECPv4.0.5//NONSGML v1.0//EN
CALSCALE:GREGORIAN
METHOD:PUBLISH
X-WR-CALNAME:Paddy Whelan`s
X-ORIGINAL-URL:https://www.paddywhelans.com
X-WR-CALDESC:Events for Paddy Whelan`s
BEGIN:VEVENT
DTSTART;TZID="UTC+3":20180805T210000
DTEND;TZID="UTC+3":20180805T210000
DTSTAMP:20260425T191007
CREATED:20180729T222600
LAST-MODIFIED:20180729T222613
UID:5368-1533502800-1533502800@www.paddywhelans.com
SUMMARY:Rallycross – World Championship:\tCanada
DESCRIPTION:
URL:https://www.paddywhelans.com/event/rallycross-world-championshipcanada-janis-baumanis/
CATEGORIES:Motor Sports/F1
END:VEVENT
END:VCALENDAR