BEGIN:VCALENDAR
VERSION:2.0
PRODID:-//Paddy Whelan`s - ECPv4.0.5//NONSGML v1.0//EN
CALSCALE:GREGORIAN
METHOD:PUBLISH
X-WR-CALNAME:Paddy Whelan`s
X-ORIGINAL-URL:https://www.paddywhelans.com
X-WR-CALDESC:Events for Paddy Whelan`s
BEGIN:VEVENT
DTSTART;TZID="UTC+3":20220915T194000
DTEND;TZID="UTC+3":20220915T210000
DTSTAMP:20260423T094241
CREATED:20220909T154319
LAST-MODIFIED:20220909T154319
UID:17792-1663270800-1663275600@www.paddywhelans.com
SUMMARY:Qarabag – Nantes
DESCRIPTION:
URL:https://www.paddywhelans.com/event/qarabag-nantes/
CATEGORIES:UEFA Europa League
END:VEVENT
END:VCALENDAR