BEGIN:VCALENDAR
VERSION:2.0
PRODID:-//Paddy Whelan`s - ECPv4.0.5//NONSGML v1.0//EN
CALSCALE:GREGORIAN
METHOD:PUBLISH
X-WR-CALNAME:Paddy Whelan`s
X-ORIGINAL-URL:https://www.paddywhelans.com
X-WR-CALDESC:Events for Paddy Whelan`s
BEGIN:VEVENT
DTSTART;TZID="UTC+3":20220902T183000
DTEND;TZID="UTC+3":20220902T200000
DTSTAMP:20260425T121952
CREATED:20220827T164135
LAST-MODIFIED:20220827T164135
UID:17535-1662143400-1662148800@www.paddywhelans.com
SUMMARY:Poland – Czech Republic
DESCRIPTION:
URL:https://www.paddywhelans.com/event/poland-czech-republic/
CATEGORIES:Basketball
END:VEVENT
END:VCALENDAR