BEGIN:VCALENDAR
VERSION:2.0
PRODID:-//Paddy Whelan`s - ECPv4.0.5//NONSGML v1.0//EN
CALSCALE:GREGORIAN
METHOD:PUBLISH
X-WR-CALNAME:Paddy Whelan`s
X-ORIGINAL-URL:https://www.paddywhelans.com
X-WR-CALDESC:Events for Paddy Whelan`s
BEGIN:VEVENT
DTSTART;TZID="UTC+3":20220911T230000
DTEND;TZID="UTC+3":20220911T235500
DTSTAMP:20260425T023921
CREATED:20220903T181859
LAST-MODIFIED:20220903T181859
UID:17736-1662937200-1662940500@www.paddywhelans.com
SUMMARY:Padres – Dodgers
DESCRIPTION:
URL:https://www.paddywhelans.com/event/padres-dodgers/
CATEGORIES:American Sports
END:VEVENT
END:VCALENDAR