BEGIN:VCALENDAR
VERSION:2.0
PRODID:-//Paddy Whelan`s - ECPv4.0.5//NONSGML v1.0//EN
CALSCALE:GREGORIAN
METHOD:PUBLISH
X-WR-CALNAME:Paddy Whelan`s
X-ORIGINAL-URL:https://www.paddywhelans.com
X-WR-CALDESC:Events for Paddy Whelan`s
BEGIN:VEVENT
DTSTART;TZID="UTC+3":20220922T230000
DTEND;TZID="UTC+3":20220922T235500
DTSTAMP:20260425T223519
CREATED:20220916T154215
LAST-MODIFIED:20220916T154215
UID:17877-1663887600-1663890900@www.paddywhelans.com
SUMMARY:Padres – Cardinals
DESCRIPTION:
URL:https://www.paddywhelans.com/event/padres-cardinals/
CATEGORIES:American Sports
END:VEVENT
END:VCALENDAR