BEGIN:VCALENDAR
VERSION:2.0
PRODID:-//Paddy Whelan`s - ECPv4.0.5//NONSGML v1.0//EN
CALSCALE:GREGORIAN
METHOD:PUBLISH
X-WR-CALNAME:Paddy Whelan`s
X-ORIGINAL-URL:https://www.paddywhelans.com
X-WR-CALDESC:Events for Paddy Whelan`s
BEGIN:VEVENT
DTSTART;TZID="UTC+3":20220916T214000
DTEND;TZID="UTC+3":20220916T230000
DTSTAMP:20260424T113156
CREATED:20220911T191345
LAST-MODIFIED:20220911T191345
UID:17819-1663364400-1663369200@www.paddywhelans.com
SUMMARY:Northampton Saints – London Irish
DESCRIPTION:
URL:https://www.paddywhelans.com/event/northampton-saints-london-irish/
CATEGORIES:Rugby Union
END:VEVENT
END:VCALENDAR