BEGIN:VCALENDAR
VERSION:2.0
PRODID:-//Paddy Whelan`s - ECPv4.0.5//NONSGML v1.0//EN
CALSCALE:GREGORIAN
METHOD:PUBLISH
X-WR-CALNAME:Paddy Whelan`s
X-ORIGINAL-URL:https://www.paddywhelans.com
X-WR-CALDESC:Events for Paddy Whelan`s
BEGIN:VEVENT
DTSTART;TZID="UTC+3":20220826T100000
DTEND;TZID="UTC+3":20220827T170000
DTSTAMP:20260426T035848
CREATED:20220820T143309
LAST-MODIFIED:20220820T143309
UID:17436-1661508000-1661619600@www.paddywhelans.com
SUMMARY:New Zealand Darts Masters
DESCRIPTION:
URL:https://www.paddywhelans.com/event/new-zealand-darts-masters/
CATEGORIES:Other Sports
END:VEVENT
END:VCALENDAR