BEGIN:VCALENDAR
VERSION:2.0
PRODID:-//Paddy Whelan`s - ECPv4.0.5//NONSGML v1.0//EN
CALSCALE:GREGORIAN
METHOD:PUBLISH
X-WR-CALNAME:Paddy Whelan`s
X-ORIGINAL-URL:https://www.paddywhelans.com
X-WR-CALDESC:Events for Paddy Whelan`s
BEGIN:VEVENT
DTSTART;TZID="UTC+3":20220826T193000
DTEND;TZID="UTC+3":20220826T210000
DTSTAMP:20260425T190716
CREATED:20220820T143507
LAST-MODIFIED:20220820T143507
UID:17439-1661542200-1661547600@www.paddywhelans.com
SUMMARY:Monza – Udinese
DESCRIPTION:
URL:https://www.paddywhelans.com/event/monza-udinese/
CATEGORIES:Continental Europe Football
END:VEVENT
END:VCALENDAR