BEGIN:VCALENDAR
VERSION:2.0
PRODID:-//Paddy Whelan`s - ECPv4.0.5//NONSGML v1.0//EN
CALSCALE:GREGORIAN
METHOD:PUBLISH
X-WR-CALNAME:Paddy Whelan`s
X-ORIGINAL-URL:https://www.paddywhelans.com
X-WR-CALDESC:Events for Paddy Whelan`s
BEGIN:VEVENT
DTSTART;TZID="UTC+3":20220918T160000
DTEND;TZID="UTC+3":20220918T180000
DTSTAMP:20260425T134157
CREATED:20220911T194526
LAST-MODIFIED:20220911T194526
UID:17857-1663516800-1663524000@www.paddywhelans.com
SUMMARY:Monza – Juventus
DESCRIPTION:
URL:https://www.paddywhelans.com/event/monza-juventus/
CATEGORIES:Continental Europe Football
END:VEVENT
END:VCALENDAR