BEGIN:VCALENDAR
VERSION:2.0
PRODID:-//Paddy Whelan`s - ECPv4.0.5//NONSGML v1.0//EN
CALSCALE:GREGORIAN
METHOD:PUBLISH
X-WR-CALNAME:Paddy Whelan`s
X-ORIGINAL-URL:https://www.paddywhelans.com
X-WR-CALDESC:Events for Paddy Whelan`s
BEGIN:VEVENT
DTSTART;TZID="UTC+3":20220828T183000
DTEND;TZID="UTC+3":20220828T210000
DTSTAMP:20260425T154418
CREATED:20220828T155356
LAST-MODIFIED:20220828T155356
UID:17584-1661711400-1661720400@www.paddywhelans.com
SUMMARY:Monchengladbach – Mainz
DESCRIPTION:
URL:https://www.paddywhelans.com/event/monchengladbach-mainz/
CATEGORIES:Continental Europe Football
END:VEVENT
END:VCALENDAR