BEGIN:VCALENDAR
VERSION:2.0
PRODID:-//Paddy Whelan`s - ECPv4.0.5//NONSGML v1.0//EN
CALSCALE:GREGORIAN
METHOD:PUBLISH
X-WR-CALNAME:Paddy Whelan`s
X-ORIGINAL-URL:https://www.paddywhelans.com
X-WR-CALDESC:Events for Paddy Whelan`s
BEGIN:VEVENT
DTSTART;TZID="UTC+3":20220911T220000
DTEND;TZID="UTC+3":20220911T230000
DTSTAMP:20260425T005457
CREATED:20220903T183035
LAST-MODIFIED:20220903T183035
UID:17749-1662933600-1662937200@www.paddywhelans.com
SUMMARY:Monaco – Lyon
DESCRIPTION:
URL:https://www.paddywhelans.com/event/monaco-lyon/
CATEGORIES:Continental Europe Football
END:VEVENT
END:VCALENDAR