BEGIN:VCALENDAR
VERSION:2.0
PRODID:-//Paddy Whelan`s - ECPv4.0.5//NONSGML v1.0//EN
CALSCALE:GREGORIAN
METHOD:PUBLISH
X-WR-CALNAME:Paddy Whelan`s
X-ORIGINAL-URL:https://www.paddywhelans.com
X-WR-CALDESC:Events for Paddy Whelan`s
BEGIN:VEVENT
DTSTART;TZID="UTC+3":20220917T214500
DTEND;TZID="UTC+3":20220917T230000
DTSTAMP:20260425T131531
CREATED:20220911T193456
LAST-MODIFIED:20220911T193456
UID:17845-1663451100-1663455600@www.paddywhelans.com
SUMMARY:Middlesbrough – Rotherham
DESCRIPTION:
URL:https://www.paddywhelans.com/event/middlesbrough-rotherham/
CATEGORIES:UK / IRELAND Football
END:VEVENT
END:VCALENDAR