BEGIN:VCALENDAR
VERSION:2.0
PRODID:-//Paddy Whelan`s - ECPv4.0.5//NONSGML v1.0//EN
CALSCALE:GREGORIAN
METHOD:PUBLISH
X-WR-CALNAME:Paddy Whelan`s
X-ORIGINAL-URL:https://www.paddywhelans.com
X-WR-CALDESC:Events for Paddy Whelan`s
BEGIN:VEVENT
DTSTART;TZID="UTC+3":20220917T140000
DTEND;TZID="UTC+3":20220917T160000
DTSTAMP:20260424T181233
CREATED:20220911T193515
LAST-MODIFIED:20220911T193515
UID:17846-1663423200-1663430400@www.paddywhelans.com
SUMMARY:Metta – Tukums 2000
DESCRIPTION:
URL:https://www.paddywhelans.com/event/metta-tukums-2000/
CATEGORIES:Continental Europe Football
END:VEVENT
END:VCALENDAR