BEGIN:VCALENDAR
VERSION:2.0
PRODID:-//Paddy Whelan`s - ECPv4.0.5//NONSGML v1.0//EN
CALSCALE:GREGORIAN
METHOD:PUBLISH
X-WR-CALNAME:Paddy Whelan`s
X-ORIGINAL-URL:https://www.paddywhelans.com
X-WR-CALDESC:Events for Paddy Whelan`s
BEGIN:VEVENT
DTSTART;TZID="UTC+3":20220827T170000
DTEND;TZID="UTC+3":20220827T190000
DTSTAMP:20260425T190853
CREATED:20220820T144902
LAST-MODIFIED:20220820T144902
UID:17448-1661619600-1661626800@www.paddywhelans.com
SUMMARY:Manchester City – Crystal Palace
DESCRIPTION:
URL:https://www.paddywhelans.com/event/manchester-city-crystal-palace/
CATEGORIES:English Premier Leaugue
END:VEVENT
END:VCALENDAR