BEGIN:VCALENDAR
VERSION:2.0
PRODID:-//Paddy Whelan`s - ECPv4.0.5//NONSGML v1.0//EN
CALSCALE:GREGORIAN
METHOD:PUBLISH
X-WR-CALNAME:Paddy Whelan`s
X-ORIGINAL-URL:https://www.paddywhelans.com
X-WR-CALDESC:Events for Paddy Whelan`s
BEGIN:VEVENT
DTSTART;TZID="UTC+3":20220908T194000
DTEND;TZID="UTC+3":20220908T210000
DTSTAMP:20260422T222913
CREATED:20220903T172023
LAST-MODIFIED:20220903T172023
UID:17664-1662666000-1662670800@www.paddywhelans.com
SUMMARY:Malmo – Braga
DESCRIPTION:
URL:https://www.paddywhelans.com/event/malmo-braga/
CATEGORIES:UEFA Europa League
END:VEVENT
END:VCALENDAR