BEGIN:VCALENDAR
VERSION:2.0
PRODID:-//Paddy Whelan`s - ECPv4.0.5//NONSGML v1.0//EN
CALSCALE:GREGORIAN
METHOD:PUBLISH
X-WR-CALNAME:Paddy Whelan`s
X-ORIGINAL-URL:https://www.paddywhelans.com
X-WR-CALDESC:Events for Paddy Whelan`s
BEGIN:VEVENT
DTSTART;TZID="UTC+3":20220917T150000
DTEND;TZID="UTC+3":20220917T170000
DTSTAMP:20260425T005205
CREATED:20220911T193136
LAST-MODIFIED:20220911T193136
UID:17839-1663426800-1663434000@www.paddywhelans.com
SUMMARY:Mallorca – Almeria
DESCRIPTION:
URL:https://www.paddywhelans.com/event/mallorca-almeria/
CATEGORIES:La Liga
END:VEVENT
END:VCALENDAR