BEGIN:VCALENDAR
VERSION:2.0
PRODID:-//Paddy Whelan`s - ECPv4.0.5//NONSGML v1.0//EN
CALSCALE:GREGORIAN
METHOD:PUBLISH
X-WR-CALNAME:Paddy Whelan`s
X-ORIGINAL-URL:https://www.paddywhelans.com
X-WR-CALDESC:Events for Paddy Whelan`s
BEGIN:VEVENT
DTSTART;TZID="UTC+3":20220907T200000
DTEND;TZID="UTC+3":20220907T220000
DTSTAMP:20260424T010105
CREATED:20220903T170412
LAST-MODIFIED:20220903T170412
UID:17646-1662580800-1662588000@www.paddywhelans.com
SUMMARY:Lorient – Lyon
DESCRIPTION:
URL:https://www.paddywhelans.com/event/lorient-lyon/
CATEGORIES:Continental Europe Football
END:VEVENT
END:VCALENDAR