BEGIN:VCALENDAR
VERSION:2.0
PRODID:-//Paddy Whelan`s - ECPv4.0.5//NONSGML v1.0//EN
CALSCALE:GREGORIAN
METHOD:PUBLISH
X-WR-CALNAME:Paddy Whelan`s
X-ORIGINAL-URL:https://www.paddywhelans.com
X-WR-CALDESC:Events for Paddy Whelan`s
BEGIN:VEVENT
DTSTART;TZID="UTC+3":20220907T153000
DTEND;TZID="UTC+3":20220907T170000
DTSTAMP:20260424T121037
CREATED:20220903T170941
LAST-MODIFIED:20220903T170941
UID:17649-1662564600-1662570000@www.paddywhelans.com
SUMMARY:Lithuania – Bosnia and Herzegovina
DESCRIPTION:
URL:https://www.paddywhelans.com/event/lithuania-bosnia-and-herzegovina/
CATEGORIES:Basketball
END:VEVENT
END:VCALENDAR