BEGIN:VCALENDAR
VERSION:2.0
PRODID:-//Paddy Whelan`s - ECPv4.0.5//NONSGML v1.0//EN
CALSCALE:GREGORIAN
METHOD:PUBLISH
X-WR-CALNAME:Paddy Whelan`s
X-ORIGINAL-URL:https://www.paddywhelans.com
X-WR-CALDESC:Events for Paddy Whelan`s
BEGIN:VEVENT
DTSTART;TZID="UTC+3":20220917T220000
DTEND;TZID="UTC+3":20220917T230000
DTSTAMP:20260425T131833
CREATED:20220911T193321
LAST-MODIFIED:20220911T193321
UID:17842-1663452000-1663455600@www.paddywhelans.com
SUMMARY:Lille – Toulouse
DESCRIPTION:
URL:https://www.paddywhelans.com/event/lille-toulouse/
CATEGORIES:Continental Europe Football
END:VEVENT
END:VCALENDAR