BEGIN:VCALENDAR
VERSION:2.0
PRODID:-//Paddy Whelan`s - ECPv4.0.5//NONSGML v1.0//EN
CALSCALE:GREGORIAN
METHOD:PUBLISH
X-WR-CALNAME:Paddy Whelan`s
X-ORIGINAL-URL:https://www.paddywhelans.com
X-WR-CALDESC:Events for Paddy Whelan`s
BEGIN:VEVENT
DTSTART;TZID="UTC+3":20220831T220000
DTEND;TZID="UTC+3":20220831T230000
DTSTAMP:20260425T115427
CREATED:20220827T154138
LAST-MODIFIED:20220827T154138
UID:17508-1661983200-1661986800@www.paddywhelans.com
SUMMARY:Lille – Nice
DESCRIPTION:
URL:https://www.paddywhelans.com/event/lille-nice/
CATEGORIES:Continental Europe Football
END:VEVENT
END:VCALENDAR