BEGIN:VCALENDAR
VERSION:2.0
PRODID:-//Paddy Whelan`s - ECPv4.0.5//NONSGML v1.0//EN
CALSCALE:GREGORIAN
METHOD:PUBLISH
X-WR-CALNAME:Paddy Whelan`s
X-ORIGINAL-URL:https://www.paddywhelans.com
X-WR-CALDESC:Events for Paddy Whelan`s
BEGIN:VEVENT
DTSTART;TZID="UTC+3":20220903T210000
DTEND;TZID="UTC+3":20220903T230000
DTSTAMP:20260425T115804
CREATED:20220828T140135
LAST-MODIFIED:20220828T140135
UID:17542-1662238800-1662246000@www.paddywhelans.com
SUMMARY:Liam Smith – Hassan Mwakinyo
DESCRIPTION:
URL:https://www.paddywhelans.com/event/liam-smith-hassan-mwakinyo/
CATEGORIES:Boxing / Fighting
END:VEVENT
END:VCALENDAR