BEGIN:VCALENDAR
VERSION:2.0
PRODID:-//Paddy Whelan`s - ECPv4.0.5//NONSGML v1.0//EN
CALSCALE:GREGORIAN
METHOD:PUBLISH
X-WR-CALNAME:Paddy Whelan`s
X-ORIGINAL-URL:https://www.paddywhelans.com
X-WR-CALDESC:Events for Paddy Whelan`s
BEGIN:VEVENT
DTSTART;TZID="UTC+3":20220827T162000
DTEND;TZID="UTC+3":20220827T190000
DTSTAMP:20260425T172211
CREATED:20220820T145250
LAST-MODIFIED:20220820T145250
UID:17456-1661617200-1661626800@www.paddywhelans.com
SUMMARY:Leipzig – Wolfsburg
DESCRIPTION:
URL:https://www.paddywhelans.com/event/leipzig-wolfsburg/
CATEGORIES:Continental Europe Football
END:VEVENT
END:VCALENDAR