BEGIN:VCALENDAR
VERSION:2.0
PRODID:-//Paddy Whelan`s - ECPv4.0.5//NONSGML v1.0//EN
CALSCALE:GREGORIAN
METHOD:PUBLISH
X-WR-CALNAME:Paddy Whelan`s
X-ORIGINAL-URL:https://www.paddywhelans.com
X-WR-CALDESC:Events for Paddy Whelan`s
BEGIN:VEVENT
DTSTART;TZID="UTC+3":20220906T220000
DTEND;TZID="UTC+3":20220906T230000
DTSTAMP:20260425T003510
CREATED:20220903T161538
LAST-MODIFIED:20220903T161538
UID:17620-1662501600-1662505200@www.paddywhelans.com
SUMMARY:Leipzig – Shakhtar Donetsk
DESCRIPTION:
URL:https://www.paddywhelans.com/event/leipzig-shakhtar-donetsk/
CATEGORIES:UEFA Champions League
END:VEVENT
END:VCALENDAR