BEGIN:VCALENDAR
VERSION:2.0
PRODID:-//Paddy Whelan`s - ECPv4.0.5//NONSGML v1.0//EN
CALSCALE:GREGORIAN
METHOD:PUBLISH
X-WR-CALNAME:Paddy Whelan`s
X-ORIGINAL-URL:https://www.paddywhelans.com
X-WR-CALDESC:Events for Paddy Whelan`s
BEGIN:VEVENT
DTSTART;TZID="UTC+3":20220901T220000
DTEND;TZID="UTC+3":20220901T230000
DTSTAMP:20260425T102603
CREATED:20220827T162358
LAST-MODIFIED:20220827T162358
UID:17515-1662069600-1662073200@www.paddywhelans.com
SUMMARY:Leicester – Manchester United
DESCRIPTION:
URL:https://www.paddywhelans.com/event/leicester-manchester-united/
CATEGORIES:English Premier Leaugue
END:VEVENT
END:VCALENDAR