BEGIN:VCALENDAR
VERSION:2.0
PRODID:-//Paddy Whelan`s - ECPv4.0.5//NONSGML v1.0//EN
CALSCALE:GREGORIAN
METHOD:PUBLISH
X-WR-CALNAME:Paddy Whelan`s
X-ORIGINAL-URL:https://www.paddywhelans.com
X-WR-CALDESC:Events for Paddy Whelan`s
BEGIN:VEVENT
DTSTART;TZID="UTC+3":20220826T214000
DTEND;TZID="UTC+3":20220826T230000
DTSTAMP:20260425T190537
CREATED:20220820T143543
LAST-MODIFIED:20220820T143543
UID:17440-1661550000-1661554800@www.paddywhelans.com
SUMMARY:Lazio – Inter
DESCRIPTION:
URL:https://www.paddywhelans.com/event/lazio-inter/
CATEGORIES:Continental Europe Football
END:VEVENT
END:VCALENDAR