BEGIN:VCALENDAR
VERSION:2.0
PRODID:-//Paddy Whelan`s - ECPv4.0.5//NONSGML v1.0//EN
CALSCALE:GREGORIAN
METHOD:PUBLISH
X-WR-CALNAME:Paddy Whelan`s
X-ORIGINAL-URL:https://www.paddywhelans.com
X-WR-CALDESC:Events for Paddy Whelan`s
BEGIN:VEVENT
DTSTART;TZID="UTC+3":20181221T210000
DTEND;TZID="UTC+3":20181221T210000
DTSTAMP:20260425T012621
CREATED:20181217T095457
LAST-MODIFIED:20181217T095457
UID:5869-1545426000-1545426000@www.paddywhelans.com
SUMMARY:Latvian Annual Sports Awards 2018: Live from "Splendid Palace"
DESCRIPTION:
URL:https://www.paddywhelans.com/event/latvian-annual-sports-awards-2018-live-from-splendid-palace/
CATEGORIES:Other Sports
END:VEVENT
END:VCALENDAR