BEGIN:VCALENDAR
VERSION:2.0
PRODID:-//Paddy Whelan`s - ECPv4.0.5//NONSGML v1.0//EN
CALSCALE:GREGORIAN
METHOD:PUBLISH
X-WR-CALNAME:Paddy Whelan`s
X-ORIGINAL-URL:https://www.paddywhelans.com
X-WR-CALDESC:Events for Paddy Whelan`s
BEGIN:VEVENT
DTSTART;TZID="UTC+3":20220906T170000
DTEND;TZID="UTC+3":20220906T190000
DTSTAMP:20260424T232820
CREATED:20220903T162339
LAST-MODIFIED:20220903T162339
UID:17623-1662483600-1662490800@www.paddywhelans.com
SUMMARY:Latvia – Northern Ireland (Women)
DESCRIPTION:
URL:https://www.paddywhelans.com/event/latvia-northern-ireland-women/
CATEGORIES:Continental Europe Football
END:VEVENT
END:VCALENDAR