BEGIN:VCALENDAR
VERSION:2.0
PRODID:-//Paddy Whelan`s - ECPv4.0.5//NONSGML v1.0//EN
CALSCALE:GREGORIAN
METHOD:PUBLISH
X-WR-CALNAME:Paddy Whelan`s
X-ORIGINAL-URL:https://www.paddywhelans.com
X-WR-CALDESC:Events for Paddy Whelan`s
BEGIN:VEVENT
DTSTART;TZID="UTC+3":20220922T190000
DTEND;TZID="UTC+3":20220922T210000
DTSTAMP:20260425T205439
CREATED:20220916T154417
LAST-MODIFIED:20220916T154417
UID:17881-1663873200-1663880400@www.paddywhelans.com
SUMMARY:Latvia – Moldova
DESCRIPTION:
URL:https://www.paddywhelans.com/event/latvia-moldova/
CATEGORIES:Continental Europe Football
END:VEVENT
END:VCALENDAR