BEGIN:VCALENDAR
VERSION:2.0
PRODID:-//Paddy Whelan`s - ECPv4.0.5//NONSGML v1.0//EN
CALSCALE:GREGORIAN
METHOD:PUBLISH
X-WR-CALNAME:Paddy Whelan`s
X-ORIGINAL-URL:https://www.paddywhelans.com
X-WR-CALDESC:Events for Paddy Whelan`s
BEGIN:VEVENT
DTSTART;TZID="UTC+3":20220828T162000
DTEND;TZID="UTC+3":20220828T190000
DTSTAMP:20260425T151917
CREATED:20220820T151206
LAST-MODIFIED:20220820T151223
UID:17474-1661703600-1661713200@www.paddywhelans.com
SUMMARY:Koln – Stuttgard
DESCRIPTION:
URL:https://www.paddywhelans.com/event/koln-stuttgard/
CATEGORIES:Continental Europe Football
END:VEVENT
END:VCALENDAR