BEGIN:VCALENDAR
VERSION:2.0
PRODID:-//Paddy Whelan`s - ECPv4.0.5//NONSGML v1.0//EN
CALSCALE:GREGORIAN
METHOD:PUBLISH
X-WR-CALNAME:Paddy Whelan`s
X-ORIGINAL-URL:https://www.paddywhelans.com
X-WR-CALDESC:Events for Paddy Whelan`s
BEGIN:VEVENT
DTSTART;TZID="UTC+3":20220914T220000
DTEND;TZID="UTC+3":20220914T230000
DTSTAMP:20260423T182901
CREATED:20220909T153210
LAST-MODIFIED:20220909T153210
UID:17784-1663192800-1663196400@www.paddywhelans.com
SUMMARY:Juventus – Benfica
DESCRIPTION:
URL:https://www.paddywhelans.com/event/juventus-benfica/
CATEGORIES:UEFA Champions League
END:VEVENT
END:VCALENDAR