BEGIN:VCALENDAR
VERSION:2.0
PRODID:-//Paddy Whelan`s - ECPv4.0.5//NONSGML v1.0//EN
CALSCALE:GREGORIAN
METHOD:PUBLISH
X-WR-CALNAME:Paddy Whelan`s
X-ORIGINAL-URL:https://www.paddywhelans.com
X-WR-CALDESC:Events for Paddy Whelan`s
BEGIN:VEVENT
DTSTART;TZID="UTC+3":20220902T220000
DTEND;TZID="UTC+3":20220902T230000
DTSTAMP:20260425T131840
CREATED:20220827T164159
LAST-MODIFIED:20220827T164159
UID:17536-1662156000-1662159600@www.paddywhelans.com
SUMMARY:Italy – Estonia
DESCRIPTION:
URL:https://www.paddywhelans.com/event/italy-estonia/
CATEGORIES:Basketball
END:VEVENT
END:VCALENDAR