BEGIN:VCALENDAR
VERSION:2.0
PRODID:-//Paddy Whelan`s - ECPv4.0.5//NONSGML v1.0//EN
CALSCALE:GREGORIAN
METHOD:PUBLISH
X-WR-CALNAME:Paddy Whelan`s
X-ORIGINAL-URL:https://www.paddywhelans.com
X-WR-CALDESC:Events for Paddy Whelan`s
BEGIN:VEVENT
DTSTART;TZID="UTC+3":20220906T220000
DTEND;TZID="UTC+3":20220906T230000
DTSTAMP:20260424T205145
CREATED:20220903T163315
LAST-MODIFIED:20220903T163315
UID:17633-1662501600-1662505200@www.paddywhelans.com
SUMMARY:Italy – Croatia
DESCRIPTION:
URL:https://www.paddywhelans.com/event/italy-croatia/
CATEGORIES:Basketball
END:VEVENT
END:VCALENDAR