BEGIN:VCALENDAR
VERSION:2.0
PRODID:-//Paddy Whelan`s - ECPv4.0.5//NONSGML v1.0//EN
CALSCALE:GREGORIAN
METHOD:PUBLISH
X-WR-CALNAME:Paddy Whelan`s
X-ORIGINAL-URL:https://www.paddywhelans.com
X-WR-CALDESC:Events for Paddy Whelan`s
BEGIN:VEVENT
DTSTART;TZID="UTC+3":20220909T110000
DTEND;TZID="UTC+3":20220910T180000
DTSTAMP:20260423T190042
CREATED:20220903T180301
LAST-MODIFIED:20220903T180301
UID:17707-1662721200-1662832800@www.paddywhelans.com
SUMMARY:Italiens Grand Prix\, Formula 3
DESCRIPTION:
URL:https://www.paddywhelans.com/event/italiens-grand-prix-formula-3/
CATEGORIES:Motor Sports/F1
END:VEVENT
END:VCALENDAR