BEGIN:VCALENDAR
VERSION:2.0
PRODID:-//Paddy Whelan`s - ECPv4.0.5//NONSGML v1.0//EN
CALSCALE:GREGORIAN
METHOD:PUBLISH
X-WR-CALNAME:Paddy Whelan`s
X-ORIGINAL-URL:https://www.paddywhelans.com
X-WR-CALDESC:Events for Paddy Whelan`s
BEGIN:VEVENT
DTSTART;TZID="UTC+3":20220902T150000
DTEND;TZID="UTC+3":20220902T170000
DTSTAMP:20260425T183033
CREATED:20220827T163854
LAST-MODIFIED:20220827T163854
UID:17532-1662130800-1662138000@www.paddywhelans.com
SUMMARY:Israel – Finland
DESCRIPTION:
URL:https://www.paddywhelans.com/event/israel-finland/
CATEGORIES:Basketball
END:VEVENT
END:VCALENDAR