BEGIN:VCALENDAR
VERSION:2.0
PRODID:-//Paddy Whelan`s - ECPv4.0.5//NONSGML v1.0//EN
CALSCALE:GREGORIAN
METHOD:PUBLISH
X-WR-CALNAME:Paddy Whelan`s
X-ORIGINAL-URL:https://www.paddywhelans.com
X-WR-CALDESC:Events for Paddy Whelan`s
BEGIN:VEVENT
DTSTART;TZID="UTC+3":20220907T220000
DTEND;TZID="UTC+3":20220907T230000
DTSTAMP:20260423T181230
CREATED:20220903T170227
LAST-MODIFIED:20220903T170227
UID:17641-1662588000-1662591600@www.paddywhelans.com
SUMMARY:Inter – Bayern Munchen
DESCRIPTION:
URL:https://www.paddywhelans.com/event/inter-bayern-munchen/
CATEGORIES:UEFA Champions League
END:VEVENT
END:VCALENDAR