BEGIN:VCALENDAR
VERSION:2.0
PRODID:-//Paddy Whelan`s - ECPv4.0.5//NONSGML v1.0//EN
CALSCALE:GREGORIAN
METHOD:PUBLISH
X-WR-CALNAME:Paddy Whelan`s
X-ORIGINAL-URL:https://www.paddywhelans.com
X-WR-CALDESC:Events for Paddy Whelan`s
BEGIN:VEVENT
DTSTART;TZID="UTC+3":20181220T182000
DTEND;TZID="UTC+3":20181220T182000
DTSTAMP:20260425T013816
CREATED:20181217T094534
LAST-MODIFIED:20181217T094534
UID:5861-1545330000-1545330000@www.paddywhelans.com
SUMMARY:Ice-hockey – KHL: SKA St.Petersburg VS Dinamo Riga
DESCRIPTION:
URL:https://www.paddywhelans.com/event/ice-hockey-khl-ska-st-petersburg-vs-dinamo-riga/
CATEGORIES:Ice Hockey
END:VEVENT
END:VCALENDAR