BEGIN:VCALENDAR
VERSION:2.0
PRODID:-//Paddy Whelan`s - ECPv4.0.5//NONSGML v1.0//EN
CALSCALE:GREGORIAN
METHOD:PUBLISH
X-WR-CALNAME:Paddy Whelan`s
X-ORIGINAL-URL:https://www.paddywhelans.com
X-WR-CALDESC:Events for Paddy Whelan`s
BEGIN:VEVENT
DTSTART;TZID="UTC+3":20190103T182000
DTEND;TZID="UTC+3":20190103T182000
DTSTAMP:20260423T094817
CREATED:20181229T154327
LAST-MODIFIED:20181229T154327
UID:5931-1546539600-1546539600@www.paddywhelans.com
SUMMARY:Ice-hockey – KHL: Jokerit Helsinki VS Sibir Novosibirsk Region
DESCRIPTION:
URL:https://www.paddywhelans.com/event/ice-hockey-khl-jokerit-helsinki-vs-sibir-novosibirsk-region/
CATEGORIES:Ice Hockey
END:VEVENT
END:VCALENDAR