BEGIN:VCALENDAR
VERSION:2.0
PRODID:-//Paddy Whelan`s - ECPv4.0.5//NONSGML v1.0//EN
CALSCALE:GREGORIAN
METHOD:PUBLISH
X-WR-CALNAME:Paddy Whelan`s
X-ORIGINAL-URL:https://www.paddywhelans.com
X-WR-CALDESC:Events for Paddy Whelan`s
BEGIN:VEVENT
DTSTART;TZID="UTC+3":20190128T182000
DTEND;TZID="UTC+3":20190128T182000
DTSTAMP:20260421T094111
CREATED:20190127T160412
LAST-MODIFIED:20190127T160412
UID:6025-1548699600-1548699600@www.paddywhelans.com
SUMMARY:Ice-hockey – KHL: HC Dynamo Moscow VS Dinamo Riga
DESCRIPTION:
URL:https://www.paddywhelans.com/event/ice-hockey-khl-hc-dynamo-moscow-vs-dinamo-riga-2/
CATEGORIES:Ice Hockey
END:VEVENT
END:VCALENDAR