BEGIN:VCALENDAR
VERSION:2.0
PRODID:-//Paddy Whelan`s - ECPv4.0.5//NONSGML v1.0//EN
CALSCALE:GREGORIAN
METHOD:PUBLISH
X-WR-CALNAME:Paddy Whelan`s
X-ORIGINAL-URL:https://www.paddywhelans.com
X-WR-CALDESC:Events for Paddy Whelan`s
BEGIN:VEVENT
DTSTART;TZID="UTC+3":20181228T191000
DTEND;TZID="UTC+3":20181228T191000
DTSTAMP:20260423T194906
CREATED:20181223T205347
LAST-MODIFIED:20181223T205347
UID:5903-1546024200-1546024200@www.paddywhelans.com
SUMMARY:Ice-hockey – KHL: Dinamo Riga VS Torpedo Nizhny Novgorod
DESCRIPTION:
URL:https://www.paddywhelans.com/event/ice-hockey-khl-dinamo-riga-vs-torpedo-nizhny-novgorod/
CATEGORIES:Ice Hockey
END:VEVENT
END:VCALENDAR