BEGIN:VCALENDAR
VERSION:2.0
PRODID:-//Paddy Whelan`s - ECPv4.0.5//NONSGML v1.0//EN
CALSCALE:GREGORIAN
METHOD:PUBLISH
X-WR-CALNAME:Paddy Whelan`s
X-ORIGINAL-URL:https://www.paddywhelans.com
X-WR-CALDESC:Events for Paddy Whelan`s
BEGIN:VEVENT
DTSTART;TZID="UTC+3":20190131T191000
DTEND;TZID="UTC+3":20190131T191000
DTSTAMP:20260421T043951
CREATED:20190127T160905
LAST-MODIFIED:20190127T160905
UID:6033-1548961800-1548961800@www.paddywhelans.com
SUMMARY:Ice-hockey – KHL: Dinamo Riga VS Spartak Moscow
DESCRIPTION:
URL:https://www.paddywhelans.com/event/ice-hockey-khl-dinamo-riga-vs-spartak-moscow-2/
CATEGORIES:Ice Hockey
END:VEVENT
END:VCALENDAR