BEGIN:VCALENDAR
VERSION:2.0
PRODID:-//Paddy Whelan`s - ECPv4.0.5//NONSGML v1.0//EN
CALSCALE:GREGORIAN
METHOD:PUBLISH
X-WR-CALNAME:Paddy Whelan`s
X-ORIGINAL-URL:https://www.paddywhelans.com
X-WR-CALDESC:Events for Paddy Whelan`s
BEGIN:VEVENT
DTSTART;TZID="UTC+3":20181207T191000
DTEND;TZID="UTC+3":20181207T191000
DTSTAMP:20260425T225141
CREATED:20181202T205945
LAST-MODIFIED:20181202T205945
UID:5783-1544209800-1544209800@www.paddywhelans.com
SUMMARY:Ice-hockey – KHL: Dinamo Riga VS Salavat Yulaev Ufa
DESCRIPTION:
URL:https://www.paddywhelans.com/event/ice-hockey-khl-dinamo-riga-vs-salavat-yulaev-ufa/
CATEGORIES:Ice Hockey
END:VEVENT
END:VCALENDAR