BEGIN:VCALENDAR
VERSION:2.0
PRODID:-//Paddy Whelan`s - ECPv4.0.5//NONSGML v1.0//EN
CALSCALE:GREGORIAN
METHOD:PUBLISH
X-WR-CALNAME:Paddy Whelan`s
X-ORIGINAL-URL:https://www.paddywhelans.com
X-WR-CALDESC:Events for Paddy Whelan`s
BEGIN:VEVENT
DTSTART;TZID="UTC+3":20181226T165000
DTEND;TZID="UTC+3":20181226T165000
DTSTAMP:20260423T225527
CREATED:20181223T204852
LAST-MODIFIED:20181223T204852
UID:5895-1545843000-1545843000@www.paddywhelans.com
SUMMARY:Ice-hockey – KHL: Dinamo Riga VS Neftekhimik Nizhnekamsk
DESCRIPTION:
URL:https://www.paddywhelans.com/event/ice-hockey-khl-dinamo-riga-vs-neftekhimik-nizhnekamsk/
CATEGORIES:Ice Hockey
END:VEVENT
END:VCALENDAR