BEGIN:VCALENDAR
VERSION:2.0
PRODID:-//Paddy Whelan`s - ECPv4.0.5//NONSGML v1.0//EN
CALSCALE:GREGORIAN
METHOD:PUBLISH
X-WR-CALNAME:Paddy Whelan`s
X-ORIGINAL-URL:https://www.paddywhelans.com
X-WR-CALDESC:Events for Paddy Whelan`s
BEGIN:VEVENT
DTSTART;TZID="UTC+3":20181230T165000
DTEND;TZID="UTC+3":20181230T165000
DTSTAMP:20260423T180326
CREATED:20181223T210100
LAST-MODIFIED:20181223T210100
UID:5916-1546188600-1546188600@www.paddywhelans.com
SUMMARY:Ice-hockey – KHL: Dinamo Riga VS HC Dynamo Moscow
DESCRIPTION:
URL:https://www.paddywhelans.com/event/ice-hockey-khl-dinamo-riga-vs-hc-dynamo-moscow-2/
CATEGORIES:Ice Hockey
END:VEVENT
END:VCALENDAR